{"text_format":"1","workbook":"xlsx","n_sheets":2,"sheets":["ORÇAMENTO","CRONOGRAMA FÍSICO-FINANCEIRO"],"not_rendered":{"charts":0,"images":2,"macros":0,"external_links":0,"defined_names":3,"comments":0,"pivot_tables":0},"unopened":[],"bounds":{"document_bytes":16777216,"sheet_cells":100000,"rows_first":2000,"rows_last":500,"rows_between":2000,"halvings":0,"cell_chars":16384,"cell_head_chars":4096},"cells_cut":0,"cells_raw":0,"read":"whole","date_system":"1900"}

{"sheet":"ORÇAMENTO","index":0,"n_rows":130,"n_cols":11,"rows_kept":130,"cut":false,"hidden":false,"merged":[[0,0,0,10],[1,0,1,8],[1,9,1,10],[2,0,2,8],[2,9,2,10],[3,0,3,10],[4,0,5,0],[4,1,5,1],[4,2,5,2],[4,3,5,3],[4,4,5,4],[4,5,4,6],[4,7,5,7],[4,8,4,9],[4,10,5,10],[115,0,115,5],[115,6,115,10]]}
[]
["Planilha Orçamentária de Serviços",null,null,null,null,null,null,null,null,"   DATA: 21/05/2015"]
["Objeto:  FECHAMENTO EM PAREDE DE BLOCOS DE CONCRETO DO SECADOR DE GRÃOS",null,null,null,null,null,null,null,null,"   BDI: 25,00%"]
["Endereço: CAPOEIRA GRANDE"]
["Item","Código","Descrição","Unidade","Quant.","Preço Unitário",null,"Total Unitário","Preço Total de Material",null,"Total Item"]
[null,null,null,null,null,"Material","Mão de obra",null,"Material","Mão de obra"]
[1,null,"SERVIÇOS INICIAIS",null,null,null,null,null,null,null,{"$f":"K8","v":200}]
["1.1",null,"Taxa de ART, plotagens e cópias de documentos","vb",1,200,0,500,{"$f":"ROUND(E8*F8,2)","v":200},{"$f":"ROUND(E8*G8,2)","v":0},{"$f":"ROUND(I8+J8,2)","v":200}]
[]
[2,null,"FUNDAÇÃO",null,null,null,null,null,null,null,{"$f":"SUM(K11:K16)","v":7119.52}]
["2.1",78018,"Escavação manual a céu aberto em material de 1A categoria, em profundidade até 0,50m","m³",1.88,14.79,26.73,{"$f":"F11+G11","v":41.52},{"$f":"ROUND(E11*F11,2)","v":27.81},{"$f":"ROUND(E11*G11,2)","v":50.25},{"$f":"ROUND(I11+J11,2)","v":78.06}]
["2.2","74164/4","Lastro de brita, para fundo de viga baldrame, espessura 5cm","m³",0.5,76.64,22.28,{"$f":"F12+G12","v":98.92},{"$f":"ROUND(E12*F12,2)","v":38.32},{"$f":"ROUND(E12*G12,2)","v":11.14},{"$f":"ROUND(I12+J12,2)","v":49.46}]
["2.3","74156/3","Estaca a trado (broca) diâmetro de 20cm, sem armação","m",33,24.83,29.41,{"$f":"F13+G13","v":54.24},{"$f":"ROUND(E13*F13,2)","v":819.39},{"$f":"ROUND(E13*G13,2)","v":970.53},{"$f":"ROUND(I13+J13,2)","v":1789.92}]
["2.4","73990/1","Armação aço CA-50 para 1m³ de concreto (para estacas e viga baldrame)","und",3.61,456.46,187.95,{"$f":"F14+G14","v":644.41},{"$f":"ROUND(E14*F14,2)","v":1647.82},{"$f":"ROUND(E14*G14,2)","v":678.5},{"$f":"ROUND(I14+J14,2)","v":2326.32}]
["2.5",73406,"Concreto Fck=15MPa (1:2,5:3), incluído preparo mecânico, lançamento e adensamento","m³",3.06,375,163.09,{"$f":"F15+G15","v":538.09},{"$f":"ROUND(E15*F15,2)","v":1147.5},{"$f":"ROUND(E15*G15,2)","v":499.06},{"$f":"ROUND(I15+J15,2)","v":1646.56}]
["2.6","74007/2","Forma de tábuas madeira de 3A para peças de concreto armado, reaproveitamento 2x, inclusive montagem e desmontagem","m²",20,34.4,27.06,{"$f":"F16+G16","v":61.46},{"$f":"ROUND(E16*F16,2)","v":688},{"$f":"ROUND(E16*G16,2)","v":541.2},{"$f":"ROUND(I16+J16,2)","v":1229.2}]
[]
[3,null,"SUPERESTRUTURA",null,null,null,null,null,null,null,{"$f":"SUM(K19:K30)","v":8740.18}]
["3.1",null,"Pilares e Pilaretes (oitão)"]
["3.1.1","74007/2","Forma de tábuas madeira de 3A para peças de concreto armado, reaproveitamento 2x, inclusive montagem e desmontagem","m²",22.95,34.4,27.06,{"$f":"F20+G20","v":61.46},{"$f":"ROUND(E20*F20,2)","v":789.48},{"$f":"ROUND(E20*G20,2)","v":621.03},{"$f":"ROUND(I20+J20,2)","v":1410.51}]
["3.1.2","73990/1","Armação aço CA-50 para 1m³ de concreto","und",1.95,456.46,187.95,{"$f":"F21+G21","v":644.41},{"$f":"ROUND(E21*F21,2)","v":890.1},{"$f":"ROUND(E21*G21,2)","v":366.5},{"$f":"ROUND(I21+J21,2)","v":1256.6}]
["3.1.3",73406,"Concreto Fck=15MPa (1:2,5:3), incluído preparo mecânico, lançamento e adensamento","m³",2.05,375,163.09,{"$f":"F22+G22","v":538.09},{"$f":"ROUND(E22*F22,2)","v":768.75},{"$f":"ROUND(E22*G22,2)","v":334.33},{"$f":"ROUND(I22+J22,2)","v":1103.08}]
["3.2",null,"Vigas de respaldo e fechamento"]
["3.2.1","74007/2","Forma de tábuas madeira de 3A para peças de concreto armado, reaproveitamento 2x, inclusive montagem e desmontagem","m²",15.3,34.4,27.06,{"$f":"F24+G24","v":61.46},{"$f":"ROUND(E24*F24,2)","v":526.32},{"$f":"ROUND(E24*G24,2)","v":414.02},{"$f":"ROUND(I24+J24,2)","v":940.34}]
["3.2.2","73990/1","Armação aço CA-50 para 1m³ de concreto","und",1,456.46,187.95,{"$f":"F25+G25","v":644.41},{"$f":"ROUND(E25*F25,2)","v":456.46},{"$f":"ROUND(E25*G25,2)","v":187.95},{"$f":"ROUND(I25+J25,2)","v":644.41}]
["3.2.3",73406,"Concreto Fck=15MPa (1:2,5:3), incluído preparo mecânico, lançamento e adensamento","m³",1.05,375,163.09,{"$f":"F26+G26","v":538.09},{"$f":"ROUND(E26*F26,2)","v":393.75},{"$f":"ROUND(E26*G26,2)","v":171.24},{"$f":"ROUND(I26+J26,2)","v":564.99}]
["3.3",null,"Vergas e contravergas"]
["3.3.1","74007/2","Forma de tábuas madeira de 3A para peças de concreto armado, reaproveitamento 2x, inclusive montagem e desmontagem","m²",20.35,34.4,27.06,{"$f":"F28+G28","v":61.46},{"$f":"ROUND(E28*F28,2)","v":700.04},{"$f":"ROUND(E28*G28,2)","v":550.67},{"$f":"ROUND(I28+J28,2)","v":1250.71}]
["3.3.2","73990/1","Armação aço CA-50 para 1m³ de concreto","und",1.3,456.46,187.95,{"$f":"F29+G29","v":644.41},{"$f":"ROUND(E29*F29,2)","v":593.4},{"$f":"ROUND(E29*G29,2)","v":244.34},{"$f":"ROUND(I29+J29,2)","v":837.74}]
["3.3.3",73406,"Concreto Fck=15MPa (1:2,5:3), incluído preparo mecânico, lançamento e adensamento","m³",1.36,375,163.09,{"$f":"F30+G30","v":538.09},{"$f":"ROUND(E30*F30,2)","v":510},{"$f":"ROUND(E30*G30,2)","v":221.8},{"$f":"ROUND(I30+J30,2)","v":731.8}]
[]
[4,null,"ALVENARIA E REVESTIMENTOS",null,null,null,null,null,null,null,{"$f":"SUM(K33:K35)","v":25577.74}]
["4.1",87455,"Alvenaria de vedação de blocos vazados de concreto de 14x19x39cm (espessura 14cm) de paredes com área líquida maior ou igual a 6m², sem vãos e argamassa de assentamento com preparo em betoneira","m²",266.4,47.75,19.54,{"$f":"F33+G33","v":67.29},{"$f":"ROUND(E33*F33,2)","v":12720.6},{"$f":"ROUND(E33*G33,2)","v":5205.46},{"$f":"ROUND(I33+J33,2)","v":17926.06}]
["4.2","73875/1","Locação de andaime metálico tubular tipo torre","M/mês",62,16.84,5.58,{"$f":"ROUND(F34+G34,2)","v":22.42},{"$f":"ROUND(E34*F34,2)","v":1044.08},{"$f":"ROUND(E34*G34,2)","v":345.96},{"$f":"ROUND(I34+J34,2)","v":1390.04}]
["4.3",88423,"Aplicação manual de pintura com tinta texturizada acrílica em paredes internas, uma cor","m²",266,20.29,3.25,{"$f":"ROUND(F35+G35,2)","v":23.54},{"$f":"ROUND(E35*F35,2)","v":5397.14},{"$f":"ROUND(E35*G35,2)","v":864.5},{"$f":"ROUND(I35+J35,2)","v":6261.64}]
[]
[5,null,"PISO DO BARRACÃO",null,null,null,null,null,null,null,{"$f":"SUM(K38:K42)","v":14116.28}]
["5.1",5622,"Regularização e compactação manual de terreno com soquete","m²",153.85,2.04,3.68,{"$f":"F38+G38","v":5.72},{"$f":"ROUND(E38*F38,2)","v":313.85},{"$f":"ROUND(E38*G38,2)","v":566.17},{"$f":"ROUND(I38+J38,2)","v":880.02}]
["5.2","74164/4","Lastro de brita, espessura 5cm","m³",7.7,76.64,22.28,{"$f":"F39+G39","v":98.92},{"$f":"ROUND(E39*F39,2)","v":590.13},{"$f":"ROUND(E39*G39,2)","v":171.56},{"$f":"ROUND(I39+J39,2)","v":761.69}]
["5.3",72183,"Piso em concreto 20MPa preparo mecânico, espessura 7cm, com armação em tela soldada","m²",103.95,56.61,30.51,{"$f":"F40+G40","v":87.12},{"$f":"ROUND(E40*F40,2)","v":5884.61},{"$f":"ROUND(E40*G40,2)","v":3171.51},{"$f":"ROUND(I40+J40,2)","v":9056.12}]
["5.4","73994/1","Armação em tela de aço soldada nervurada Q-138, aço CA-60, 4,2mm, malha 10x10cm – para entrada de caminhões – tela em duas camadas","kg",120.76,6.91,0.76,{"$f":"F41+G41","v":7.67},{"$f":"ROUND(E41*F41,2)","v":834.45},{"$f":"ROUND(E41*G41,2)","v":91.78},{"$f":"ROUND(I41+J41,2)","v":926.23}]
["5.5","74138/2","Concreto usinado bombeado Fck=20MPa, inclusive lançamento e adensamento – para entrada de caminhões","m³",6.3,349.49,46.1,{"$f":"F42+G42","v":395.59},{"$f":"ROUND(E42*F42,2)","v":2201.79},{"$f":"ROUND(E42*G42,2)","v":290.43},{"$f":"ROUND(I42+J42,2)","v":2492.22}]
[]
[6,null,"BASE PARA O SECADOR",null,null,null,null,null,null,null,{"$f":"SUM(K45:K47)","v":2718.38}]
["6.1",87509,"Alvenaria de vedação de blocos cerâmicos furados na horizontal de 14x9x19cm (espessura 14cm) de paredes com área líquida maior ou igual a 6m² sem vãos e argamassa de assentamento com preparo em betoneira","m²",11.65,57.81,66.76,{"$f":"F45+G45","v":124.57},{"$f":"ROUND(E45*F45,2)","v":673.49},{"$f":"ROUND(E45*G45,2)","v":777.75},{"$f":"ROUND(I45+J45,2)","v":1451.24}]
["6.2",73675,"Piso de concreto acabamento rústico espessura 7cm com juntas em madeira","m²",12.55,40.9,34.65,{"$f":"F46+G46","v":75.55},{"$f":"ROUND(E46*F46,2)","v":513.3},{"$f":"ROUND(E46*G46,2)","v":434.86},{"$f":"ROUND(I46+J46,2)","v":948.16}]
["6.3",73397,"Emboço cimento areia 1:4 espessura=1,5cm, incluindo chapisco 1:3, espessura=9mm","m²",10.25,15.76,15.36,{"$f":"F47+G47","v":31.12},{"$f":"ROUND(E47*F47,2)","v":161.54},{"$f":"ROUND(E47*G47,2)","v":157.44},{"$f":"ROUND(I47+J47,2)","v":318.98}]
[]
[7,null,"ESQUADRIAS",null,null,null,null,null,null,null,{"$f":"SUM(K50:K54)","v":16042.91}]
["7.1",68054,"Portão de ferro em chapa galvanizada 14 GSG","m²",19.31,195.19,40.29,{"$f":"F50+G50","v":235.48},{"$f":"ROUND(E50*F50,2)","v":3769.12},{"$f":"ROUND(E50*G50,2)","v":778},{"$f":"ROUND(I50+J50,2)","v":4547.12}]
["7.2","73933/2","Porta de ferro de abrir, tipo chapa lisa, com guarnições","m²",1.89,372.13,68.3,{"$f":"ROUND(F51+G51,2)","v":440.43},{"$f":"ROUND(E51*F51,2)","v":703.33},{"$f":"ROUND(E51*G51,2)","v":129.09},{"$f":"ROUND(I51+J51,2)","v":832.42}]
["7.3",73446,"Pintura de superfície metálica com tinta grafite","m²",53,8.7,11.65,{"$f":"F52+G52","v":20.35},{"$f":"ROUND(E52*F52,2)","v":461.1},{"$f":"ROUND(E52*G52,2)","v":617.45},{"$f":"ROUND(I52+J52,2)","v":1078.55}]
["7.4",6104,"Janela basculante de ferro em cantoneira 5/8” X 1/8”, linha popular","m²",18,393.99,24.66,{"$f":"F53+G53","v":418.65},{"$f":"ROUND(E53*F53,2)","v":7091.82},{"$f":"ROUND(E53*G53,2)","v":443.88},{"$f":"ROUND(I53+J53,2)","v":7535.7}]
["7.5",72117,"Vidro liso comum transparente, espessura 4mm","m²",18,102.74,11.1,{"$f":"F54+G54","v":113.84},{"$f":"ROUND(E54*F54,2)","v":1849.32},{"$f":"ROUND(E54*G54,2)","v":199.8},{"$f":"ROUND(I54+J54,2)","v":2049.12}]
[]
[8,null,"ESCRITÓRIO E BWC",null,null,null,null,null,null,null,{"$f":"SUM(K57:K84)","v":16163.29}]
["8.1",null,"Fundação e Superestrutura"]
["8.1.1",78018,"Escavação manual a céu aberto em material de 1A categoria, em profundidade até 0,50m","m³",0.5,14.79,26.73,{"$f":"F58+G58","v":41.52},7.39,{"$f":"ROUND(E58*G58,2)","v":13.37},{"$f":"ROUND(I58+J58,2)","v":20.76}]
["8.1.2","74156/3","Estaca a trado (broca) diâmetro de 20cm, sem armação","m",18,24.83,29.41,{"$f":"F59+G59","v":54.24},{"$f":"ROUND(E59*F59,2)","v":446.94},{"$f":"ROUND(E59*G59,2)","v":529.38},{"$f":"ROUND(I59+J59,2)","v":976.32}]
["8.1.3",5622,"Regularização e compactação manual de terreno com soquete","m²",13.5,2.04,3.68,{"$f":"F60+G60","v":5.72},{"$f":"ROUND(E60*F60,2)","v":27.54},{"$f":"ROUND(E60*G60,2)","v":49.68},{"$f":"ROUND(I60+J60,2)","v":77.22}]
["8.1.4","74164/4","Lastro de brita, para fundo de viga baldrame e pisos, espessura 5cm","m³",0.81,76.64,22.28,{"$f":"F61+G61","v":98.92},{"$f":"ROUND(E61*F61,2)","v":62.08},{"$f":"ROUND(E61*G61,2)","v":18.05},{"$f":"ROUND(I61+J61,2)","v":80.13}]
["8.1.5","74007/2","Forma de tábuas madeira de 3A para peças de concreto armado (vigas, pilares e vergas), reaproveitamento 2x, inclusive montagem e desmontagem","m²",15,34.4,27.06,{"$f":"F62+G62","v":61.46},{"$f":"ROUND(E62*F62,2)","v":516},{"$f":"ROUND(E62*G62,2)","v":405.9},{"$f":"ROUND(I62+J62,2)","v":921.9}]
["8.1.6","73990/1","Armação aço CA-50 para 1m³ de concreto (para estacas, vigas, pilares e vergas)","und",1.72,456.46,187.95,{"$f":"F63+G63","v":644.41},{"$f":"ROUND(E63*F63,2)","v":785.11},{"$f":"ROUND(E63*G63,2)","v":323.27},{"$f":"ROUND(I63+J63,2)","v":1108.38}]
["8.1.7",73406,"Concreto Fck=15MPa (1:2,5:3), incluído preparo mecânico, lançamento e adensamento","m³",1.81,375,163.09,{"$f":"F64+G64","v":538.09},{"$f":"ROUND(E64*F64,2)","v":678.75},{"$f":"ROUND(E64*G64,2)","v":295.19},{"$f":"ROUND(I64+J64,2)","v":973.94}]
["8.1.8",72183,"Piso em concreto 20MPa preparo mecânico, espessura 7cm, com armação em tela soldada","m²",13.5,56.61,30.51,{"$f":"F65+G65","v":87.12},{"$f":"ROUND(E65*F65,2)","v":764.24},{"$f":"ROUND(E65*G65,2)","v":411.89},{"$f":"ROUND(I65+J65,2)","v":1176.13}]
["8.2",null,"Alvenaria  "]
["8.2.1",87455,"Alvenaria de vedação de blocos vazados de concreto de 14x19x39cm (espessura 14cm) de paredes com área líquida maior ou igual a 6m², sem vãos e argamassa de assentamento com preparo em betoneira","m²",25.1,47.75,19.54,{"$f":"F67+G67","v":67.29},{"$f":"ROUND(E67*F67,2)","v":1198.53},{"$f":"ROUND(E67*G67,2)","v":490.45},{"$f":"ROUND(I67+J67,2)","v":1688.98}]
["8.3",null,"Esquadrias e Portas"]
["8.3.1",68052,"Janela basculante de alumínio","m²",0.36,648.35,30.75,{"$f":"F69+G69","v":679.1},{"$f":"ROUND(E69*F69,2)","v":233.41},{"$f":"ROUND(E69*G69,2)","v":11.07},{"$f":"ROUND(I69+J69,2)","v":244.48}]
["8.3.2","74067/1","Janela de correr em alumínio, com quatro folhas para vidro, duas fixas e duas móveis, incluso guarnição e vidro liso incolor","m²",1.8,641.19,46.15,{"$f":"F70+G70","v":687.34},{"$f":"ROUND(E70*F70,2)","v":1154.14},{"$f":"ROUND(E70*G70,2)","v":83.07},{"$f":"ROUND(I70+J70,2)","v":1237.21}]
["8.3.3",72117,"Vidro liso comum transparente, espessura 4mm","m²",1.8,102.74,11.1,{"$f":"F71+G71","v":113.84},{"$f":"ROUND(E71*F71,2)","v":184.93},{"$f":"ROUND(E71*G71,2)","v":19.98},{"$f":"ROUND(I71+J71,2)","v":204.91}]
["8.3.4","73910/6","Porta de madeira compensada lisa para cera ou verniz, 80x210x3,5cm, incluso aduela 1A, alizar 1A e dobradiças com anel","und ",2,483.29,93.54,{"$f":"F72+G72","v":576.83},{"$f":"ROUND(E72*F72,2)","v":966.58},{"$f":"ROUND(E72*G72,2)","v":187.08},{"$f":"ROUND(I72+J72,2)","v":1153.66}]
["8.3.5","74068/2","Fechadura de embutir completa, para portas externas, padrão de acabamento popular","und ",2,56.55,35.49,{"$f":"F73+G73","v":92.04},{"$f":"ROUND(E73*F73,2)","v":113.1},{"$f":"ROUND(E73*G73,2)","v":70.98},{"$f":"ROUND(I73+J73,2)","v":184.08}]
["8.4",null,"Revestimentos e pinturas"]
["8.4.1",87264,"Revestimento cerâmico para paredes internas com placas grês ou semigrês de dimensões 20x20cm aplicadas em ambientes de área menor que 5m² na altura inteira das paredes","m²",24.55,39.53,14.51,{"$f":"F75+G75","v":54.04},{"$f":"ROUND(E75*F75,2)","v":970.46},{"$f":"ROUND(E75*G75,2)","v":356.22},{"$f":"ROUND(I75+J75,2)","v":1326.68}]
["8.4.2",87247,"Revestimento cerâmico para piso com placas tipo grês de dimensões 35x35cm aplicadas em ambientes de área entre 5m² e 10m²","m²",16.2,24.91,8.36,{"$f":"F76+G76","v":33.27},{"$f":"ROUND(E76*F76,2)","v":403.54},{"$f":"ROUND(E76*G76,2)","v":135.43},{"$f":"ROUND(I76+J76,2)","v":538.97}]
["8.4.3",88648,"Rodapé cerâmico de 7cm de altura com placas tipo grês de dimensões 35x35cm","m",11.5,3.9,1.35,{"$f":"F77+G77","v":5.25},{"$f":"ROUND(E77*F77,2)","v":44.85},{"$f":"ROUND(E77*G77,2)","v":15.53},{"$f":"ROUND(I77+J77,2)","v":60.38}]
["8.4.4",6082,"Pintura em verniz sintético brilhante em madeira, três demãos – em portas","m²",10.1,7.56,9.63,{"$f":"F78+G78","v":17.19},{"$f":"ROUND(E78*F78,2)","v":76.36},{"$f":"ROUND(E78*G78,2)","v":97.26},{"$f":"ROUND(I78+J78,2)","v":173.62}]
["8.5",null,"Cobertura  "]
["8.5.1","73931/1","Estrutura em madeira aparelhada, para telha ondulada de fibrocimento, alumínio ou plástica, apoiada em laje ou parede","m²",22,37.21,15.71,{"$f":"F80+G80","v":52.92},{"$f":"ROUND(E80*F80,2)","v":818.62},{"$f":"ROUND(E80*G80,2)","v":345.62},{"$f":"ROUND(I80+J80,2)","v":1164.24}]
["8.5.2","74088/1","Telhamento com telha de fibrocimento ondulada, espessura 6mm, incluso juntas de vedação e acessórios de fixação, excluindo madeiramento","m²",22,26.7,5.44,{"$f":"F81+G81","v":32.14},{"$f":"ROUND(E81*F81,2)","v":587.4},{"$f":"ROUND(E81*G81,2)","v":119.68},{"$f":"ROUND(I81+J81,2)","v":707.08}]
["8.5.3",84030,"Ripa de massaranduba aparelhada 1,5x4cm para entarugamento de forro, incluso fornecimento e colocação","m²",61,3.09,2.75,{"$f":"F82+G82","v":5.84},{"$f":"ROUND(E82*F82,2)","v":188.49},{"$f":"ROUND(E82*G82,2)","v":167.75},{"$f":"ROUND(I82+J82,2)","v":356.24}]
["8.5.4",11587,"Forro de PVC em régua de 100mm (com colocação, exclusive estrutura de suporte)","m²",13.5,46.88,0,{"$f":"F83+G83","v":46.88},{"$f":"ROUND(E83*F83,2)","v":632.88},{"$f":"ROUND(E83*G83,2)","v":0},{"$f":"ROUND(I83+J83,2)","v":632.88}]
["8.5.5",9536,"Forro de madeira para beiral, tábuas de 10x1cm com friso macho/fêmea inclusa meia-cana e testeira com altura de 15cm","m²",10,83.28,32.23,{"$f":"F84+G84","v":115.51},{"$f":"ROUND(E84*F84,2)","v":832.8},{"$f":"ROUND(E84*G84,2)","v":322.3},{"$f":"ROUND(I84+J84,2)","v":1155.1}]
[]
[9,null,"ELÉTRICA",null,null,null,null,null,null,null,{"$f":"SUM(K87:K98)","v":3930.8}]
["9.1",9540,"Entrada de energia elétrica aérea monofásica 50A com poste de concreto, inclusive cabeamento, caixa de proteção para medidor e aterramento","und",1,955.25,161.1,{"$f":"ROUND(F87+G87,2)","v":1116.35},{"$f":"ROUND(E87*F87,2)","v":955.25},{"$f":"ROUND(E87*G87,2)","v":161.1},{"$f":"ROUND(I87+J87,2)","v":1116.35}]
["9.2",84402,"Quadro de distribuição de energia para 6 (seis) disjuntores termomagnéticos monopolares sem barramento, de embutir, em chapa metálica – Fornecimento e instalação","und",1,31.51,27.78,{"$f":"F88+G88","v":59.29},{"$f":"ROUND(E88*F88,2)","v":31.51},{"$f":"ROUND(E88*G88,2)","v":27.78},{"$f":"ROUND(I88+J88,2)","v":59.29}]
["9.3","74130/1","Disjuntor termomagnético monopolar padrão NEMA (americano) 10 a 30A 240V, fornecimento e instalação","und",2,10.81,1.96,{"$f":"F89+G89","v":12.77},{"$f":"ROUND(E89*F89,2)","v":21.62},{"$f":"ROUND(E89*G89,2)","v":3.92},{"$f":"ROUND(I89+J89,2)","v":25.54}]
["9.4","74130/2","Disjuntor termomagnético monopolar padrão NEMA (americano) 35 a 50A 240V, fornecimento e instalação","und",2,17.61,1.96,{"$f":"F90+G90","v":19.57},{"$f":"ROUND(E90*F90,2)","v":35.22},{"$f":"ROUND(E90*G90,2)","v":3.92},{"$f":"ROUND(I90+J90,2)","v":39.14}]
["9.5",83407,"Eletroduto de PVC rígido roscável DN 32mm (1 1/4”), inclusive conexões, fornecimento e instalação","m",15,11.51,12.5,{"$f":"F91+G91","v":24.01},{"$f":"ROUND(E91*F91,2)","v":172.65},{"$f":"ROUND(E91*G91,2)","v":187.5},{"$f":"ROUND(I91+J91,2)","v":360.15}]
["9.6",72934,"Eletroduto de PVC flexível corrugado DN 20mm (3/4”), fornecimento e instalação","m",40,2.95,3.34,{"$f":"F92+G92","v":6.29},{"$f":"ROUND(E92*F92,2)","v":118},{"$f":"ROUND(E92*G92,2)","v":133.6},{"$f":"ROUND(I92+J92,2)","v":251.6}]
["9.7","composição","Ponto de energia em paredes, tetos e/ou pisos","und",10,56.35,84.53,{"$f":"F93+G93","v":140.88},{"$f":"ROUND(E93*F93,2)","v":563.5},{"$f":"ROUND(E93*G93,2)","v":845.3},{"$f":"ROUND(I93+J93,2)","v":1408.8}]
["9.8",72331,"Interruptor simples de embutir 10A/250V 1 tecla, sem placa – Fornecimento e instalação","und",2,6.89,5.74,{"$f":"F94+G94","v":12.63},{"$f":"ROUND(E94*F94,2)","v":13.78},{"$f":"ROUND(E94*G94,2)","v":11.48},{"$f":"ROUND(I94+J94,2)","v":25.26}]
["9.9",83466,"interruptor simples com 1 tomada universal conjugados com placa – Fornecimento e instalação","und",1,16.88,10.28,{"$f":"F95+G95","v":27.16},{"$f":"ROUND(E95*F95,2)","v":16.88},{"$f":"ROUND(E95*G95,2)","v":10.28},{"$f":"ROUND(I95+J95,2)","v":27.16}]
["9.10",83540,"Tomada de embutir 2P+T 10A/250V com placa – Fornecimento e instalação","und",6,9.35,5.55,{"$f":"F96+G96","v":14.9},{"$f":"ROUND(E96*F96,2)","v":56.1},{"$f":"ROUND(E96*G96,2)","v":33.3},{"$f":"ROUND(I96+J96,2)","v":89.4}]
["9.11",73953,"Luminária tipo calha de sobrepor, com reator de partida rápida e  lâmpada fluorescente 2x40W, completa – Fornecimento e instalação","und",2,73.33,26.85,{"$f":"F97+G97","v":100.18},{"$f":"ROUND(E97*F97,2)","v":146.66},{"$f":"ROUND(E97*G97,2)","v":53.7},{"$f":"ROUND(I97+J97,2)","v":200.36}]
["9.12","composição","Pendente vip redondo metal 1 lâmpada bivolt","und",3,77.25,32,{"$f":"F98+G98","v":109.25},{"$f":"ROUND(E98*F98,2)","v":231.75},{"$f":"ROUND(E98*G98,2)","v":96},{"$f":"ROUND(I98+J98,2)","v":327.75}]
[]
[10,null,"INSTALAÇÕES DE ÁGUA FRIA E ESGOTO",null,null,null,null,null,null,null,{"$f":"SUM(K101:K109)","v":4297.64}]
["10.1",88504,"Caixa dágua em polietileno, 500 litros, com acessórios","und",1,446.08,211.85,{"$f":"F101+G101","v":657.93},{"$f":"ROUND(E101*F101,2)","v":446.08},{"$f":"ROUND(E101*G101,2)","v":211.85},{"$f":"ROUND(I101+J101,2)","v":657.93}]
["10.2","SMOP","Ponto de água em PVC, diâmetro médio 32mm","und",4,29.29,72.44,{"$f":"F102+G102","v":101.73},{"$f":"ROUND(E102*F102,2)","v":117.16},{"$f":"ROUND(E102*G102,2)","v":289.76},{"$f":"ROUND(I102+J102,2)","v":406.92}]
["10.3",9535,"Chuveiro elétrico comum corpo plástico tipo ducha – Fornecimento e instalação","und",1,52.31,10.41,{"$f":"F103+G103","v":62.72},{"$f":"ROUND(E103*F103,2)","v":52.31},{"$f":"ROUND(E103*G103,2)","v":10.41},{"$f":"ROUND(I103+J103,2)","v":62.72}]
["10.4","SMOP","Ponto de esgoto, diâmetro médio 75mm","und",3,51.99,146.36,{"$f":"F104+G104","v":198.35},{"$f":"ROUND(E104*F104,2)","v":155.97},{"$f":"ROUND(E104*G104,2)","v":439.08},{"$f":"ROUND(I104+J104,2)","v":595.05}]
["10.5",72684,"Ralo seco de PVC 100x100mm simples – Fornecimento e instalação","und",1,12.81,10.74,{"$f":"F105+G105","v":23.55},{"$f":"ROUND(E105*F105,2)","v":12.81},{"$f":"ROUND(E105*G105,2)","v":10.74},{"$f":"ROUND(I105+J105,2)","v":23.55}]
["10.6",72685,"Ralo sifonado de PVC 100x100mm simples – Fornecimento e instalação","und",1,14.44,13.44,{"$f":"F106+G106","v":27.88},{"$f":"ROUND(E106*F106,2)","v":14.44},{"$f":"ROUND(E106*G106,2)","v":13.44},{"$f":"ROUND(I106+J106,2)","v":27.88}]
["10.7","Composição","Fossa séptica de concreto armado para 5 contribuintes – Fornecimento e colocação","und",1,760.66,425.76,{"$f":"F107+G107","v":1186.42},{"$f":"ROUND(E107*F107,2)","v":760.66},{"$f":"ROUND(E107*G107,2)","v":425.76},{"$f":"ROUND(I107+J107,2)","v":1186.42}]
["10.8",3282,"Sumidouro concreto pré moldado, completo, para 5 contribuintes","und",1,847.15,0,{"$f":"F108+G108","v":847.15},{"$f":"ROUND(E108*F108,2)","v":847.15},{"$f":"ROUND(E108*G108,2)","v":0},{"$f":"ROUND(I108+J108,2)","v":847.15}]
["10.9","79517/2","Escavação manual em solo, profundidade maior que 1,5m até 4,00m","m³",8.85,19.73,35.64,{"$f":"F109+G109","v":55.37},{"$f":"ROUND(E109*F109,2)","v":174.61},{"$f":"ROUND(E109*G109,2)","v":315.41},{"$f":"ROUND(I109+J109,2)","v":490.02}]
[]
[11,null,"LOUÇAS E ACESSÓRIOS",null,null,null,null,null,null,null,{"$f":"SUM(K112:K114)","v":735.49}]
["11.1",86931,"Vaso sanitário sifonado com caixa acoplada louça branca – padrão médio, incluso engate flexível em plástico branco, 1/2”x40cm – Fornecimento e instalação","und",1,355.53,20.08,{"$f":"F112+G112","v":375.61},{"$f":"ROUND(E112*F112,2)","v":355.53},{"$f":"ROUND(E112*G112,2)","v":20.08},{"$f":"ROUND(I112+J112,2)","v":375.61}]
["11.2",86943,"Lavatório louça branca suspenso, 29,5 x 39cm ou equivalente, padrão popular, incluso sifão flexível em PVC, válvula e engate flexível 30cm em plástico e torneira cromada de mesa, padrão popular – Fornecimento e instalação","und",1,121.88,17.01,{"$f":"F113+G113","v":138.89},{"$f":"ROUND(E113*F113,2)","v":121.88},{"$f":"ROUND(E113*G113,2)","v":17.01},{"$f":"ROUND(I113+J113,2)","v":138.89}]
["11.3",86929,"Tanque de mármore sintético suspenso, 22L ou equivalente, incluso sifão flexível em PVC, válvula plástica e torneira de metal cromado padrão popular – Fornecimento e instalação","und",1,199.53,21.46,{"$f":"F114+G114","v":220.99},{"$f":"ROUND(E114*F114,2)","v":199.53},{"$f":"ROUND(E114*G114,2)","v":21.46},{"$f":"ROUND(I114+J114,2)","v":220.99}]
[]
["TOTAL DA OBRA",null,null,null,null,null,{"$f":"K7+K10+K18+K32+K37+K44+K49+K56+K86+K100+K111","v":99642.23}]
[]
[]
[null,null,"Pedreiro",null,3.5,0,26.82,{"$f":"F119+G119","v":26.82},{"$f":"E119*F119","v":0},{"$f":"E119*G119","v":93.87},{"$f":"I119+J119","v":93.87}]
[null,null,"servente",null,13,0,18.98,{"$f":"F120+G120","v":18.98},{"$f":"E120*F120","v":0},{"$f":"E120*G120","v":246.74},{"$f":"I120+J120","v":246.74}]
[null,null,"areia lavada tipo média",null,0.12,72,0,{"$f":"F121+G121","v":72},{"$f":"E121*F121","v":8.64},{"$f":"E121*G121","v":0},{"$f":"I121+J121","v":8.64}]
[null,null,"pedra britada 2",null,0.2,66,0,{"$f":"F122+G122","v":66},{"$f":"E122*F122","v":13.2},{"$f":"E122*G122","v":0},{"$f":"I122+J122","v":13.2}]
[null,null,"cimento portland CPII-E-32",null,40,0.47,0,{"$f":"F123+G123","v":0.47},{"$f":"E123*F123","v":18.8},{"$f":"E123*G123","v":0},{"$f":"I123+J123","v":18.8}]
[null,null,"Fossa séptica de concreto armado",null,1,567.89,0,{"$f":"F124+G124","v":567.89},{"$f":"E124*F124","v":567.89},{"$f":"E124*G124","v":0},{"$f":"I124+J124","v":567.89}]
[]
[null,null,null,null,null,null,null,null,{"$f":"SUM(I119:I124)","v":608.53},{"$f":"SUM(J119:J124)","v":340.61},{"$f":"SUM(K119:K124)","v":949.14}]
[null,null,"3282 SUMIDOURO CONCRETO PRE MOLDADO, COMPLETO, PARA 5 CONTRIBUINTES UN 677,72 "]
[]
[]
[null,null,"FONTE: TABELA SEIL/PRED (AGOSTO/2014) e SMOP 2010"]

{"sheet":"CRONOGRAMA FÍSICO-FINANCEIRO","index":1,"n_rows":30,"n_cols":9,"rows_kept":30,"cut":false,"hidden":false,"merged":[[0,0,0,8],[1,0,1,8],[2,0,2,8],[3,0,3,8],[4,0,5,0],[4,1,5,1],[4,2,5,2],[4,3,5,3],[4,4,5,4],[4,5,5,5],[4,6,5,6],[4,7,5,7],[4,8,5,8],[6,0,7,0],[6,1,7,1],[6,2,7,2],[6,8,7,8],[8,0,9,0],[8,1,9,1],[8,2,9,2],[8,8,9,8],[10,0,11,0],[10,1,11,1],[10,2,11,2],[10,8,11,8],[12,0,13,0],[12,1,13,1],[12,2,13,2],[12,8,13,8],[14,0,15,0],[14,1,15,1],[14,2,15,2],[14,8,15,8],[16,0,17,0],[16,1,17,1],[16,2,17,2],[16,8,17,8],[18,0,19,0],[18,1,19,1],[18,2,19,2],[18,8,19,8],[20,0,21,0],[20,1,21,1],[20,2,21,2],[20,8,21,8],[22,0,23,0],[22,1,23,1],[22,2,23,2],[22,8,23,8],[24,0,25,0],[24,1,25,1],[24,2,25,2],[24,8,25,8],[26,0,27,0],[26,1,27,1],[26,2,27,2],[26,8,27,8],[28,0,28,1],[29,0,29,1]]}
[]
["CRONOGRAMA FÍSICO-FINANCEIRO"]
[{"$f":"ORÇAMENTO!A3","v":0}]
[]
["ITEM","DISCRIMINAÇÃO DOS SERVIÇOS","%","MÊS 1","MÊS 2","MÊS 3","MÊS 4","MÊS 5","TOTAL"]
[]
[1,{"$f":"ORÇAMENTO!C7","v":0},{"$f":"I7/I29","v":0.0020071810917921},null,null,null,null,null,{"$f":"ORÇAMENTO!K7","v":200}]
[null,null,null,{"$f":"I7","v":200}]
[2,{"$f":"ORÇAMENTO!C10","v":0},{"$f":"I9/I29","v":0.0714508296331786},null,null,null,null,null,{"$f":"ORÇAMENTO!K10","v":7119.52}]
[null,null,null,{"$f":"I9*0.75","v":5339.64},{"$f":"I9*0.25","v":1779.88}]
[3,{"$f":"ORÇAMENTO!C18","v":0},{"$f":"I11/I29","v":0.0877156201742976},null,null,null,null,null,{"$f":"ORÇAMENTO!K18","v":8740.18}]
[null,null,null,null,{"$f":"I11*0.3","v":2622.054},{"$f":"I11*0.35","v":3059.063},{"$f":"I11*0.35","v":3059.063}]
[4,{"$f":"ORÇAMENTO!C32","v":0},{"$f":"I13/I29","v":0.256695780493873},null,null,null,null,null,{"$f":"ORÇAMENTO!K32","v":25577.74}]
[null,null,null,null,{"$f":"I13*0.25","v":6394.435},{"$f":"I13*0.25","v":6394.435},{"$f":"I13*0.25","v":6394.435},{"$f":"I13*0.25","v":6394.435}]
[5,{"$f":"ORÇAMENTO!C37","v":0},{"$f":"I15/I29","v":0.141669651512215},null,null,null,null,null,{"$f":"ORÇAMENTO!K37","v":14116.28}]
[null,null,null,null,null,{"$f":"I15*0.35","v":4940.698},{"$f":"I15*0.35","v":4940.698},{"$f":"I15*0.3","v":4234.884}]
[6,{"$f":"ORÇAMENTO!C44","v":0},{"$f":"I17/I29","v":0.0272814046815291},null,null,null,null,null,{"$f":"ORÇAMENTO!K44","v":2718.38}]
[null,null,null,null,null,null,null,{"$f":"I17","v":2718.38}]
[7,{"$f":"ORÇAMENTO!C49","v":0},{"$f":"I19/I29","v":0.161005128046612},null,null,null,null,null,{"$f":"ORÇAMENTO!K49","v":16042.91}]
[null,null,null,null,null,{"$f":"I19*0.25","v":4010.7275},{"$f":"I19*0.35","v":5615.0185},{"$f":"I19*0.4","v":6417.164}]
[8,{"$f":"ORÇAMENTO!C56","v":0},{"$f":"I21/I29","v":0.162213250345762},null,null,null,null,null,{"$f":"ORÇAMENTO!K56","v":16163.29}]
[null,null,null,{"$f":"I21*0.4","v":6465.316},{"$f":"I21*0.25","v":4040.8225},{"$f":"I21*0.2","v":3232.658},{"$f":"I21*0.15","v":2424.4935}]
[9,{"$f":"ORÇAMENTO!C86","v":0},{"$f":"I23/I29","v":0.039449137178082},null,null,null,null,null,{"$f":"ORÇAMENTO!K86","v":3930.8}]
[null,null,null,null,null,{"$f":"I23*0.4","v":1572.32},{"$f":"I23*0.3","v":1179.24},{"$f":"I23*0.3","v":1179.24}]
[10,{"$f":"ORÇAMENTO!C100","v":0},{"$f":"I25/I29","v":0.0431307087366471},null,null,null,null,null,{"$f":"ORÇAMENTO!K100","v":4297.64}]
[null,null,null,null,null,{"$f":"I25*0.4","v":1719.056},{"$f":"I25*0.3","v":1289.292},{"$f":"I25*0.3","v":1289.292}]
[11,{"$f":"ORÇAMENTO!C111","v":0},{"$f":"I27/I29","v":0.00738130810601088},null,null,null,null,null,{"$f":"ORÇAMENTO!K111","v":735.49}]
[null,null,null,null,null,null,null,{"$f":"I27","v":735.49}]
["TOTAIS",null,{"$f":"SUM(C7:C28)","v":1},{"$f":"SUM(D7:D28)","v":12004.956},{"$f":"SUM(E7:E28)","v":14837.1915},{"$f":"SUM(F7:F28)","v":24928.9575},{"$f":"SUM(G7:G28)","v":24902.24},{"$f":"SUM(H7:H28)","v":22968.885},{"$f":"SUM(I7:I28)","v":99642.23}]
["PARTICIPAÇÃO",null,"%",{"$f":"D29/I29","v":0.120480603454981},{"$f":"E29/I29","v":0.148904651170493},{"$f":"F29/I29","v":0.250184660660445},{"$f":"G29/I29","v":0.249916526356345},{"$f":"H29/I29","v":0.230513558357737},{"$f":"SUM(D30:H30)","v":1}]